BEGIN:VCALENDAR
METHOD:PUBLISH
PRODID:Data::ICal 0.13
VERSION:2.0
BEGIN:VEVENT
DESCRIPTION:Don&#039;t miss Dana Mecum&#039;s 38th Original Spring Classic!\nTony Katz will broadcast LIVE on May 13th from the auction floor at the Indiana State Fairgrounds.\n\n\nTHIS YEAR&#039;S HIGHLIGHTS INCLUDE...\n👉🏻 The Jerry Hirsch Pace Car Collection - A slew of official Camaro pace car editions dating back to the 1960s make up the bulk of this collection, which features nearly a dozen vehicles from the Bowtie brand.\n👉🏻 The Apex Collection - Coveted classic car icons from Corvettes and Shelbys to Chevelles and Hemi Cudas run rampant in this offering, while modern-day machines like a pair of Ford GTs only add to this group&#039;s tantalizing appeal. \n👉🏻 Schneider&#039;s Garage Collection - A hefty haul of 1930s and &#039;40s classics makes up the vast majority of this all-American collection, with a wide range of makes and models on offer, from a Graham Combination Coupe to a LaSalle 38. \n👉🏻 The Jim Walker Collection - A custom-lover&#039;s dream-come-true, this assemblage is teeming with one-of-a-kind specialty builds ranging from a vintage Apache Pickup to a &#039;63 split-window Corvette, along with Hot Rods, pony cars and more. \nCheck out the full collection for the 38th Original Spring Classic here.\n\n&nbsp;
DTSTAMP:20260419T190052Z
DTSTART;TZID=America/Indiana/Indianapolis:20250513T000000
DTEND;TZID=America/Indiana/Indianapolis:20250513T000000
LOCATION:1202 E 38th Street\, Indianapolis
SUMMARY:Dana Mecum&#8217;s 38th Original Spring Classic
UID:614659-1747094400-1747094400
END:VEVENT
END:VCALENDAR
